BEGIN:VCALENDAR
VERSION:2.0
PRODID:-//StreamRadar//Match Calendar//EN
CALSCALE:GREGORIAN
METHOD:PUBLISH
X-WR-CALNAME:FC Tulsa vs One Knoxville
X-WR-TIMEZONE:America/New_York
BEGIN:VEVENT
UID:match-5617702@streamradar.soccer
SUMMARY:FC Tulsa vs One Knoxville
DTSTAMP:20260425T004038Z
DTSTART;TZID=America/New_York:20260425T200000
DTEND;TZID=America/New_York:20260425T220000
LOCATION:ONEOK Field
DESCRIPTION:Wo Sie FC Tulsa vs One Knoxville in Vereinigte Staaten - USL Cu
 p sehen können. Live-Stream und TV-Programm.\nhttps://streamradar.soccer/d
 e/match/5617702/fc-tulsa-vs-one-knoxville/
URL;VALUE=URI:https://streamradar.soccer/de/match/5617702/fc-tulsa-vs-one-k
 noxville/
STATUS:CONFIRMED
END:VEVENT
END:VCALENDAR
