BEGIN:VCALENDAR
VERSION:2.0
PRODID:-//StreamRadar//Match Calendar//EN
CALSCALE:GREGORIAN
METHOD:PUBLISH
X-WR-CALNAME:Rio Ave U23 vs Portimonense U23
X-WR-TIMEZONE:America/New_York
BEGIN:VEVENT
UID:match-5617640@streamradar.soccer
SUMMARY:Rio Ave U23 vs Portimonense U23
DTSTAMP:20260420T120814Z
DTSTART;TZID=America/New_York:20260421T100000
DTEND;TZID=America/New_York:20260421T120000
LOCATION:Estádio Municipal Prof. Dr. José Vieira de Carvalho (Maia)
DESCRIPTION:Wo Sie Rio Ave U-23 vs Portimonense U-23 in Portugal - Liga Rev
 elação sehen können. Live-Stream und TV-Programm.\nhttps://streamradar.s
 occer/de/match/5617640/rio-ave-u23-vs-portimonense-u23/
URL;VALUE=URI:https://streamradar.soccer/de/match/5617640/rio-ave-u23-vs-po
 rtimonense-u23/
STATUS:CONFIRMED
END:VEVENT
END:VCALENDAR
