BEGIN:VCALENDAR
VERSION:2.0
PRODID:-//StreamRadar//Match Calendar//EN
CALSCALE:GREGORIAN
METHOD:PUBLISH
X-WR-CALNAME:Barcelona Sp vs Itaqua
X-WR-TIMEZONE:America/New_York
BEGIN:VEVENT
UID:match-5617570@streamradar.soccer
SUMMARY:Barcelona Sp vs Itaqua
DTSTAMP:20260421T010416Z
DTSTART;TZID=America/New_York:20260425T140000
DTEND;TZID=America/New_York:20260425T160000
DESCRIPTION:Wo Sie Barcelona Sp vs Itaqua in Brasilien - Campeonato Paulist
 a Serie B sehen können. Live-Stream und TV-Programm.\nhttps://streamradar.
 soccer/de/match/5617570/barcelona-sp-vs-itaqua/
URL;VALUE=URI:https://streamradar.soccer/de/match/5617570/barcelona-sp-vs-i
 taqua/
STATUS:CONFIRMED
END:VEVENT
END:VCALENDAR
