BEGIN:VCALENDAR
VERSION:2.0
PRODID:-//StreamRadar//Match Calendar//EN
CALSCALE:GREGORIAN
METHOD:PUBLISH
X-WR-CALNAME:LiÃ¨ge vs Lommel United
X-WR-TIMEZONE:America/New_York
BEGIN:VEVENT
UID:match-5617396@streamradar.soccer
SUMMARY:LiÃ¨ge vs Lommel United
DTSTAMP:20260420T121937Z
DTSTART;TZID=America/New_York:20260427T143000
DTEND;TZID=America/New_York:20260427T163000
LOCATION:Stade de Rocourt
DESCRIPTION:Wo Sie LiÃ¨ge vs Lommel United in Belgien - Pro League sehen kÃ
 ¶nnen. Live-Stream und TV-Programm.\nhttps://streamradar.soccer/de/match/56
 17396/liege-vs-lommel-united/
URL;VALUE=URI:https://streamradar.soccer/de/match/5617396/liege-vs-lommel-u
 nited/
STATUS:CONFIRMED
END:VEVENT
END:VCALENDAR
