BEGIN:VCALENDAR
VERSION:2.0
PRODID:-//StreamRadar//Match Calendar//EN
CALSCALE:GREGORIAN
METHOD:PUBLISH
X-WR-CALNAME:Atenas vs FÃ©nix
X-WR-TIMEZONE:America/New_York
BEGIN:VEVENT
UID:match-5617055@streamradar.soccer
SUMMARY:Atenas vs FÃ©nix
DTSTAMP:20260419T123714Z
DTSTART;TZID=America/New_York:20260427T180000
DTEND;TZID=America/New_York:20260427T200000
DESCRIPTION:Wo Sie Atenas vs FÃ©nix in Uruguay - Segunda DivisiÃ³n sehen kÃ
 ¶nnen. Live-Stream und TV-Programm.\nhttps://streamradar.soccer/de/match/56
 17055/atenas-vs-fenix/
URL;VALUE=URI:https://streamradar.soccer/de/match/5617055/atenas-vs-fenix/
STATUS:CONFIRMED
END:VEVENT
END:VCALENDAR
