BEGIN:VCALENDAR
VERSION:2.0
PRODID:-//StreamRadar//Match Calendar//EN
CALSCALE:GREGORIAN
METHOD:PUBLISH
X-WR-CALNAME:NJS vs GrIFK
X-WR-TIMEZONE:America/New_York
BEGIN:VEVENT
UID:match-5616976@streamradar.soccer
SUMMARY:NJS vs GrIFK
DTSTAMP:20260421T042032Z
DTSTART;TZID=America/New_York:20260424T123000
DTEND;TZID=America/New_York:20260424T143000
LOCATION:Klaukkalan urheilualue
DESCRIPTION:Wo Sie NJS vs GrIFK in Finnland - Kakkonen sehen können. Live-
 Stream und TV-Programm.\nhttps://streamradar.soccer/de/match/5616976/njs-vs
 -grifk/
URL;VALUE=URI:https://streamradar.soccer/de/match/5616976/njs-vs-grifk/
STATUS:CONFIRMED
END:VEVENT
END:VCALENDAR
