BEGIN:VCALENDAR
VERSION:2.0
PRODID:-//StreamRadar//Match Calendar//EN
CALSCALE:GREGORIAN
METHOD:PUBLISH
X-WR-CALNAME:Mekelakeya vs Negele Arsi Ketema
X-WR-TIMEZONE:America/New_York
BEGIN:VEVENT
UID:match-5616930@streamradar.soccer
SUMMARY:Mekelakeya vs Negele Arsi Ketema
DTSTAMP:20260421T085503Z
DTSTART;TZID=America/New_York:20260514T110000
DTEND;TZID=America/New_York:20260514T130000
DESCRIPTION:Wo Sie Mekelakeya vs Negele Arsi Ketema in Äthiopien - Premier
  League sehen können. Live-Stream und TV-Programm.\nhttps://streamradar.so
 ccer/de/match/5616930/mekelakeya-vs-negele-arsi-ketema/
URL;VALUE=URI:https://streamradar.soccer/de/match/5616930/mekelakeya-vs-neg
 ele-arsi-ketema/
STATUS:CONFIRMED
END:VEVENT
END:VCALENDAR
