BEGIN:VCALENDAR
VERSION:2.0
PRODID:-//StreamRadar//Match Calendar//EN
CALSCALE:GREGORIAN
METHOD:PUBLISH
X-WR-CALNAME:Kedus Giorgis vs Mekelle 70 Enderta
X-WR-TIMEZONE:America/New_York
BEGIN:VEVENT
UID:match-5616917@streamradar.soccer
SUMMARY:Kedus Giorgis vs Mekelle 70 Enderta
DTSTAMP:20260421T063155Z
DTSTART;TZID=America/New_York:20260509T060000
DTEND;TZID=America/New_York:20260509T080000
DESCRIPTION:Wo Sie Kedus Giorgis vs Mekelle 70 Enderta in Äthiopien - Prem
 ier League sehen können. Live-Stream und TV-Programm.\nhttps://streamradar
 .soccer/de/match/5616917/kedus-giorgis-vs-mekelle-70-enderta/
URL;VALUE=URI:https://streamradar.soccer/de/match/5616917/kedus-giorgis-vs-
 mekelle-70-enderta/
STATUS:CONFIRMED
END:VEVENT
END:VCALENDAR
