BEGIN:VCALENDAR
VERSION:2.0
PRODID:-//StreamRadar//Match Calendar//EN
CALSCALE:GREGORIAN
METHOD:PUBLISH
X-WR-CALNAME:Hadiya Hosaena vs Mekelle 70 Enderta
X-WR-TIMEZONE:America/New_York
BEGIN:VEVENT
UID:match-5616901@streamradar.soccer
SUMMARY:Hadiya Hosaena vs Mekelle 70 Enderta
DTSTAMP:20260421T063151Z
DTSTART;TZID=America/New_York:20260430T060000
DTEND;TZID=America/New_York:20260430T080000
DESCRIPTION:Wo Sie Hadiya Hosaena vs Mekelle 70 Enderta in Äthiopien - Pre
 mier League sehen können. Live-Stream und TV-Programm.\nhttps://streamrada
 r.soccer/de/match/5616901/hadiya-hosaena-vs-mekelle-70-enderta/
URL;VALUE=URI:https://streamradar.soccer/de/match/5616901/hadiya-hosaena-vs
 -mekelle-70-enderta/
STATUS:CONFIRMED
END:VEVENT
END:VCALENDAR
