BEGIN:VCALENDAR
VERSION:2.0
PRODID:-//StreamRadar//Match Calendar//EN
CALSCALE:GREGORIAN
METHOD:PUBLISH
X-WR-CALNAME:Sohar vs Saham
X-WR-TIMEZONE:America/New_York
BEGIN:VEVENT
UID:match-5616868@streamradar.soccer
SUMMARY:Sohar vs Saham
DTSTAMP:20260421T104035Z
DTSTART;TZID=America/New_York:20260518T112000
DTEND;TZID=America/New_York:20260518T132000
DESCRIPTION:Wo Sie Sohar vs Saham in Omani League sehen können. Live-Strea
 m und TV-Programm.\nhttps://streamradar.soccer/de/match/5616868/sohar-vs-sa
 ham/
URL;VALUE=URI:https://streamradar.soccer/de/match/5616868/sohar-vs-saham/
STATUS:CONFIRMED
END:VEVENT
END:VCALENDAR
