BEGIN:VCALENDAR
VERSION:2.0
PRODID:-//StreamRadar//Match Calendar//EN
CALSCALE:GREGORIAN
METHOD:PUBLISH
X-WR-CALNAME:Guaraní vs Nacional Asunción
X-WR-TIMEZONE:America/New_York
BEGIN:VEVENT
UID:match-5616854@streamradar.soccer
SUMMARY:Guaraní vs Nacional Asunción
DTSTAMP:20260419T122230Z
DTSTART;TZID=America/New_York:20260503T190000
DTEND;TZID=America/New_York:20260503T210000
LOCATION:Estadio Rogelio Livieres
DESCRIPTION:Wo Sie Guaraní vs Nacional Asunción in Paraguay - Primera Div
 ision sehen können. Live-Stream und TV-Programm.\nhttps://streamradar.socc
 er/de/match/5616854/guarani-vs-nacional-asuncion/
URL;VALUE=URI:https://streamradar.soccer/de/match/5616854/guarani-vs-nacion
 al-asuncion/
STATUS:CONFIRMED
END:VEVENT
END:VCALENDAR
