BEGIN:VCALENDAR
VERSION:2.0
PRODID:-//StreamRadar//Match Calendar//EN
CALSCALE:GREGORIAN
METHOD:PUBLISH
X-WR-CALNAME:Nykøbing vs Hørsholm-Usserød
X-WR-TIMEZONE:America/New_York
BEGIN:VEVENT
UID:match-5616309@streamradar.soccer
SUMMARY:Nykøbing vs Hørsholm-Usserød
DTSTAMP:20260421T093054Z
DTSTART;TZID=America/New_York:20260517T080000
DTEND;TZID=America/New_York:20260517T100000
LOCATION:Lollands Bank Park
DESCRIPTION:Wo Sie Nykøbing vs Hørsholm-Usserød in Dänemark - 3. Divisi
 on sehen können. Live-Stream und TV-Programm.\nhttps://streamradar.soccer/
 de/match/5616309/nykobing-vs-horsholm-usserod/
URL;VALUE=URI:https://streamradar.soccer/de/match/5616309/nykobing-vs-horsh
 olm-usserod/
STATUS:CONFIRMED
END:VEVENT
END:VCALENDAR
