BEGIN:VCALENDAR
VERSION:2.0
PRODID:-//StreamRadar//Match Calendar//EN
CALSCALE:GREGORIAN
METHOD:PUBLISH
X-WR-CALNAME:KDV vs Rubin Kazan' II
X-WR-TIMEZONE:America/New_York
BEGIN:VEVENT
UID:match-5616275@streamradar.soccer
SUMMARY:KDV vs Rubin Kazan' II
DTSTAMP:20260421T092315Z
DTSTART;TZID=America/New_York:20260517T090000
DTEND;TZID=America/New_York:20260517T110000
DESCRIPTION:Wo Sie KDV vs Rubin Kazan' II in Russland - FNL 2 sehen können
 . Live-Stream und TV-Programm.\nhttps://streamradar.soccer/de/match/5616275
 /kdv-vs-rubin-kazan-ii/
URL;VALUE=URI:https://streamradar.soccer/de/match/5616275/kdv-vs-rubin-kaza
 n-ii/
STATUS:CONFIRMED
END:VEVENT
END:VCALENDAR
