BEGIN:VCALENDAR
VERSION:2.0
PRODID:-//StreamRadar//Match Calendar//EN
CALSCALE:GREGORIAN
METHOD:PUBLISH
X-WR-CALNAME:Colorado ISA vs Unión Villa Krause
X-WR-TIMEZONE:America/New_York
BEGIN:VEVENT
UID:match-5616234@streamradar.soccer
SUMMARY:Colorado ISA vs Unión Villa Krause
DTSTAMP:20260421T092445Z
DTSTART;TZID=America/New_York:20260516T210000
DTEND;TZID=America/New_York:20260516T230000
DESCRIPTION:Wo Sie Colorado ISA vs Unión Villa Krause in USL League Two se
 hen können. Live-Stream und TV-Programm.\nhttps://streamradar.soccer/de/ma
 tch/5616234/colorado-isa-vs-union-villa-krause/
URL;VALUE=URI:https://streamradar.soccer/de/match/5616234/colorado-isa-vs-u
 nion-villa-krause/
STATUS:CONFIRMED
END:VEVENT
END:VCALENDAR
