BEGIN:VCALENDAR
VERSION:2.0
PRODID:-//StreamRadar//Match Calendar//EN
CALSCALE:GREGORIAN
METHOD:PUBLISH
X-WR-CALNAME:Smail vs Sohar
X-WR-TIMEZONE:America/New_York
BEGIN:VEVENT
UID:match-5616193@streamradar.soccer
SUMMARY:Smail vs Sohar
DTSTAMP:20260421T101947Z
DTSTART;TZID=America/New_York:20260514T112000
DTEND;TZID=America/New_York:20260514T132000
DESCRIPTION:Wo Sie Smail vs Sohar in Omani League sehen können. Live-Strea
 m und TV-Programm.\nhttps://streamradar.soccer/de/match/5616193/smail-vs-so
 har/
URL;VALUE=URI:https://streamradar.soccer/de/match/5616193/smail-vs-sohar/
STATUS:CONFIRMED
END:VEVENT
END:VCALENDAR
