BEGIN:VCALENDAR
VERSION:2.0
PRODID:-//StreamRadar//Match Calendar//EN
CALSCALE:GREGORIAN
METHOD:PUBLISH
X-WR-CALNAME:Al-Rustaq vs Ibri
X-WR-TIMEZONE:America/New_York
BEGIN:VEVENT
UID:match-5616189@streamradar.soccer
SUMMARY:Al-Rustaq vs Ibri
DTSTAMP:20260421T084031Z
DTSTART;TZID=America/New_York:20260512T122000
DTEND;TZID=America/New_York:20260512T142000
DESCRIPTION:Wo Sie Al-Rustaq vs Ibri in Omani League sehen können. Live-St
 ream und TV-Programm.\nhttps://streamradar.soccer/de/match/5616189/al-rusta
 q-vs-ibri/
URL;VALUE=URI:https://streamradar.soccer/de/match/5616189/al-rustaq-vs-ibri
 /
STATUS:CONFIRMED
END:VEVENT
END:VCALENDAR
