BEGIN:VCALENDAR
VERSION:2.0
PRODID:-//StreamRadar//Match Calendar//EN
CALSCALE:GREGORIAN
METHOD:PUBLISH
X-WR-CALNAME:OFI vs Volos NFC
X-WR-TIMEZONE:America/New_York
BEGIN:VEVENT
UID:match-5616108@streamradar.soccer
SUMMARY:OFI vs Volos NFC
DTSTAMP:20260421T062038Z
DTSTART;TZID=America/New_York:20260517T100000
DTEND;TZID=America/New_York:20260517T120000
LOCATION:Pankritio Stadium
DESCRIPTION:Wo Sie OFI vs Volos NFC in Griechenland - Super League Griechen
 land sehen können. Live-Stream und TV-Programm.\nhttps://streamradar.socce
 r/de/match/5616108/ofi-vs-volos-nfc/
URL;VALUE=URI:https://streamradar.soccer/de/match/5616108/ofi-vs-volos-nfc/
STATUS:CONFIRMED
END:VEVENT
END:VCALENDAR
