BEGIN:VCALENDAR
VERSION:2.0
PRODID:-//StreamRadar//Match Calendar//EN
CALSCALE:GREGORIAN
METHOD:PUBLISH
X-WR-CALNAME:FK Shumbrat Saransk vs Lipetsk
X-WR-TIMEZONE:America/New_York
BEGIN:VEVENT
UID:match-5615528@streamradar.soccer
SUMMARY:FK Shumbrat Saransk vs Lipetsk
DTSTAMP:20260421T084420Z
DTSTART;TZID=America/New_York:20260516T090000
DTEND;TZID=America/New_York:20260516T110000
DESCRIPTION:Wo Sie FK Shumbrat Saransk vs Lipetsk in Russland - FNL 2 sehen
  können. Live-Stream und TV-Programm.\nhttps://streamradar.soccer/de/match
 /5615528/fk-shumbrat-saransk-vs-lipetsk/
URL;VALUE=URI:https://streamradar.soccer/de/match/5615528/fk-shumbrat-saran
 sk-vs-lipetsk/
STATUS:CONFIRMED
END:VEVENT
END:VCALENDAR
