BEGIN:VCALENDAR
VERSION:2.0
PRODID:-//StreamRadar//Match Calendar//EN
CALSCALE:GREGORIAN
METHOD:PUBLISH
X-WR-CALNAME:Izberbash vs Dynamo Makhachkala 2
X-WR-TIMEZONE:America/New_York
BEGIN:VEVENT
UID:match-5615521@streamradar.soccer
SUMMARY:Izberbash vs Dynamo Makhachkala 2
DTSTAMP:20260421T084035Z
DTSTART;TZID=America/New_York:20260516T090000
DTEND;TZID=America/New_York:20260516T110000
DESCRIPTION:Wo Sie Izberbash vs Dynamo Makhachkala 2 in Russland - FNL 2 se
 hen können. Live-Stream und TV-Programm.\nhttps://streamradar.soccer/de/ma
 tch/5615521/izberbash-vs-dynamo-makhachkala-2/
URL;VALUE=URI:https://streamradar.soccer/de/match/5615521/izberbash-vs-dyna
 mo-makhachkala-2/
STATUS:CONFIRMED
END:VEVENT
END:VCALENDAR
