BEGIN:VCALENDAR
VERSION:2.0
PRODID:-//StreamRadar//Match Calendar//EN
CALSCALE:GREGORIAN
METHOD:PUBLISH
X-WR-CALNAME:Sevastopol vs PSK Dinskaya
X-WR-TIMEZONE:America/New_York
BEGIN:VEVENT
UID:match-5615519@streamradar.soccer
SUMMARY:Sevastopol vs PSK Dinskaya
DTSTAMP:20260421T084139Z
DTSTART;TZID=America/New_York:20260516T090000
DTEND;TZID=America/New_York:20260516T110000
DESCRIPTION:Wo Sie Sevastopol vs PSK Dinskaya in Russland - FNL 2 sehen kö
 nnen. Live-Stream und TV-Programm.\nhttps://streamradar.soccer/de/match/561
 5519/sevastopol-vs-psk-dinskaya/
URL;VALUE=URI:https://streamradar.soccer/de/match/5615519/sevastopol-vs-psk
 -dinskaya/
STATUS:CONFIRMED
END:VEVENT
END:VCALENDAR
