BEGIN:VCALENDAR
VERSION:2.0
PRODID:-//StreamRadar//Match Calendar//EN
CALSCALE:GREGORIAN
METHOD:PUBLISH
X-WR-CALNAME:Onze Créateurs vs Stade Malien Bamako
X-WR-TIMEZONE:America/New_York
BEGIN:VEVENT
UID:match-5615448@streamradar.soccer
SUMMARY:Onze Créateurs vs Stade Malien Bamako
DTSTAMP:20260421T093015Z
DTSTART;TZID=America/New_York:20260503T123000
DTEND;TZID=America/New_York:20260503T143000
DESCRIPTION:Wo Sie Onze Créateurs vs Stade Malien Bamako in Mali - Premiè
 re Division sehen können. Live-Stream und TV-Programm.\nhttps://streamrada
 r.soccer/de/match/5615448/onze-createurs-vs-stade-malien-bamako/
URL;VALUE=URI:https://streamradar.soccer/de/match/5615448/onze-createurs-vs
 -stade-malien-bamako/
STATUS:CONFIRMED
END:VEVENT
END:VCALENDAR
