BEGIN:VCALENDAR
VERSION:2.0
PRODID:-//StreamRadar//Match Calendar//EN
CALSCALE:GREGORIAN
METHOD:PUBLISH
X-WR-CALNAME:CEOV Operário vs União Rondonópolis
X-WR-TIMEZONE:America/New_York
BEGIN:VEVENT
UID:match-5615409@streamradar.soccer
SUMMARY:CEOV Operário vs União Rondonópolis
DTSTAMP:20260421T084414Z
DTSTART;TZID=America/New_York:20260516T160000
DTEND;TZID=America/New_York:20260516T180000
LOCATION:Estadio Municipal Dito Souza
DESCRIPTION:Wo Sie CEOV Operário vs União Rondonópolis in Brasilien - Se
 rie D sehen können. Live-Stream und TV-Programm.\nhttps://streamradar.socc
 er/de/match/5615409/ceov-operario-vs-uniao-rondonopolis/
URL;VALUE=URI:https://streamradar.soccer/de/match/5615409/ceov-operario-vs-
 uniao-rondonopolis/
STATUS:CONFIRMED
END:VEVENT
END:VCALENDAR
