BEGIN:VCALENDAR
VERSION:2.0
PRODID:-//StreamRadar//Match Calendar//EN
CALSCALE:GREGORIAN
METHOD:PUBLISH
X-WR-CALNAME:Maricá vs XV de Piracicaba
X-WR-TIMEZONE:America/New_York
BEGIN:VEVENT
UID:match-5615402@streamradar.soccer
SUMMARY:Maricá vs XV de Piracicaba
DTSTAMP:20260421T084321Z
DTSTART;TZID=America/New_York:20260516T160000
DTEND;TZID=America/New_York:20260516T180000
DESCRIPTION:Wo Sie Maricá vs XV De Piracicaba in Brasilien - Serie D sehen
  können. Live-Stream und TV-Programm.\nhttps://streamradar.soccer/de/match
 /5615402/marica-vs-xv-de-piracicaba/
URL;VALUE=URI:https://streamradar.soccer/de/match/5615402/marica-vs-xv-de-p
 iracicaba/
STATUS:CONFIRMED
END:VEVENT
END:VCALENDAR
