BEGIN:VCALENDAR
VERSION:2.0
PRODID:-//StreamRadar//Match Calendar//EN
CALSCALE:GREGORIAN
METHOD:PUBLISH
X-WR-CALNAME:Gama vs Brasiliense
X-WR-TIMEZONE:America/New_York
BEGIN:VEVENT
UID:match-5615396@streamradar.soccer
SUMMARY:Gama vs Brasiliense
DTSTAMP:20260421T084128Z
DTSTART;TZID=America/New_York:20260516T160000
DTEND;TZID=America/New_York:20260516T180000
DESCRIPTION:Wo Sie Gama vs Brasiliense in Brasilien - Serie D sehen können
 . Live-Stream und TV-Programm.\nhttps://streamradar.soccer/de/match/5615396
 /gama-vs-brasiliense/
URL;VALUE=URI:https://streamradar.soccer/de/match/5615396/gama-vs-brasilien
 se/
STATUS:CONFIRMED
END:VEVENT
END:VCALENDAR
