BEGIN:VCALENDAR
VERSION:2.0
PRODID:-//StreamRadar//Match Calendar//EN
CALSCALE:GREGORIAN
METHOD:PUBLISH
X-WR-CALNAME:América RN vs Laguna
X-WR-TIMEZONE:America/New_York
BEGIN:VEVENT
UID:match-5615385@streamradar.soccer
SUMMARY:América RN vs Laguna
DTSTAMP:20260421T084240Z
DTSTART;TZID=America/New_York:20260516T160000
DTEND;TZID=America/New_York:20260516T180000
LOCATION:Arena das Dunas
DESCRIPTION:Wo Sie América RN vs Laguna in Brasilien - Serie D sehen könn
 en. Live-Stream und TV-Programm.\nhttps://streamradar.soccer/de/match/56153
 85/america-rn-vs-laguna/
URL;VALUE=URI:https://streamradar.soccer/de/match/5615385/america-rn-vs-lag
 una/
STATUS:CONFIRMED
END:VEVENT
END:VCALENDAR
