BEGIN:VCALENDAR
VERSION:2.0
PRODID:-//StreamRadar//Match Calendar//EN
CALSCALE:GREGORIAN
METHOD:PUBLISH
X-WR-CALNAME:Bandari vs APS Bomet
X-WR-TIMEZONE:America/New_York
BEGIN:VEVENT
UID:match-5615349@streamradar.soccer
SUMMARY:Bandari vs APS Bomet
DTSTAMP:20260421T024648Z
DTSTART;TZID=America/New_York:20260516T080000
DTEND;TZID=America/New_York:20260516T100000
DESCRIPTION:Wo Sie Bandari vs APS Bomet in Kenyan Premier League sehen kön
 nen. Live-Stream und TV-Programm.\nhttps://streamradar.soccer/de/match/5615
 349/bandari-vs-aps-bomet/
URL;VALUE=URI:https://streamradar.soccer/de/match/5615349/bandari-vs-aps-bo
 met/
STATUS:CONFIRMED
END:VEVENT
END:VCALENDAR
