BEGIN:VCALENDAR
VERSION:2.0
PRODID:-//StreamRadar//Match Calendar//EN
CALSCALE:GREGORIAN
METHOD:PUBLISH
X-WR-CALNAME:Napredak vs Radnički Kragujevac
X-WR-TIMEZONE:America/New_York
BEGIN:VEVENT
UID:match-5615330@streamradar.soccer
SUMMARY:Napredak vs Radnički Kragujevac
DTSTAMP:20260421T084422Z
DTSTART;TZID=America/New_York:20260516T130000
DTEND;TZID=America/New_York:20260516T150000
DESCRIPTION:Wo Sie Napredak vs Radnički Kragujevac in Serbien - Superliga 
 sehen können. Live-Stream und TV-Programm.\nhttps://streamradar.soccer/de/
 match/5615330/napredak-vs-radnicki-kragujevac/
URL;VALUE=URI:https://streamradar.soccer/de/match/5615330/napredak-vs-radni
 cki-kragujevac/
STATUS:CONFIRMED
END:VEVENT
END:VCALENDAR
