BEGIN:VCALENDAR
VERSION:2.0
PRODID:-//StreamRadar//Match Calendar//EN
CALSCALE:GREGORIAN
METHOD:PUBLISH
X-WR-CALNAME:Ireland Republic vs Grenada
X-WR-TIMEZONE:America/New_York
BEGIN:VEVENT
UID:match-5615295@streamradar.soccer
SUMMARY:Ireland Republic vs Grenada
DTSTAMP:20260421T084252Z
DTSTART;TZID=America/New_York:20260516T120000
DTEND;TZID=America/New_York:20260516T140000
DESCRIPTION:Wo Sie Republik Irland vs Grenada in Freundschaftsspiel sehen k
 önnen. Live-Stream und TV-Programm.\nhttps://streamradar.soccer/de/match/5
 615295/ireland-republic-vs-grenada/
URL;VALUE=URI:https://streamradar.soccer/de/match/5615295/ireland-republic-
 vs-grenada/
STATUS:CONFIRMED
END:VEVENT
END:VCALENDAR
