BEGIN:VCALENDAR
VERSION:2.0
PRODID:-//StreamRadar//Match Calendar//EN
CALSCALE:GREGORIAN
METHOD:PUBLISH
X-WR-CALNAME:Horoya vs Wakirya
X-WR-TIMEZONE:America/New_York
BEGIN:VEVENT
UID:match-5614804@streamradar.soccer
SUMMARY:Horoya vs Wakirya
DTSTAMP:20260421T104129Z
DTSTART;TZID=America/New_York:20260417T120000
DTEND;TZID=America/New_York:20260417T140000
LOCATION:Sports Center - Yorokoguia-Horoya AC (Dubreka)
DESCRIPTION:Wo Sie Horoya vs Wakirya in Guinea - Ligue 1 sehen können. Liv
 e-Stream und TV-Programm.\nhttps://streamradar.soccer/de/match/5614804/horo
 ya-vs-wakirya/
URL;VALUE=URI:https://streamradar.soccer/de/match/5614804/horoya-vs-wakirya
 /
STATUS:CONFIRMED
END:VEVENT
END:VCALENDAR
