BEGIN:VCALENDAR
VERSION:2.0
PRODID:-//StreamRadar//Match Calendar//EN
CALSCALE:GREGORIAN
METHOD:PUBLISH
X-WR-CALNAME:NEROCA vs Sudeva
X-WR-TIMEZONE:America/New_York
BEGIN:VEVENT
UID:match-5614648@streamradar.soccer
SUMMARY:NEROCA vs Sudeva
DTSTAMP:20260421T101938Z
DTSTART;TZID=America/New_York:20260514T053000
DTEND;TZID=America/New_York:20260514T073000
LOCATION:Khuman Lampak Main Stadium
DESCRIPTION:Wo Sie NEROCA vs Sudeva in Indien - I-League 2 sehen können. L
 ive-Stream und TV-Programm.\nhttps://streamradar.soccer/de/match/5614648/ne
 roca-vs-sudeva/
URL;VALUE=URI:https://streamradar.soccer/de/match/5614648/neroca-vs-sudeva/
STATUS:CONFIRMED
END:VEVENT
END:VCALENDAR
