BEGIN:VCALENDAR
VERSION:2.0
PRODID:-//StreamRadar//Match Calendar//EN
CALSCALE:GREGORIAN
METHOD:PUBLISH
X-WR-CALNAME:Homs Al Fidaa vs Damascus Al-Ahli
X-WR-TIMEZONE:America/New_York
BEGIN:VEVENT
UID:match-5614600@streamradar.soccer
SUMMARY:Homs Al Fidaa vs Damascus Al-Ahli
DTSTAMP:20260421T104934Z
DTSTART;TZID=America/New_York:20260417T080000
DTEND;TZID=America/New_York:20260417T100000
DESCRIPTION:Wo Sie Homs Al Fidaa vs Damascus Al-Ahli in Syrien - Premier Le
 ague sehen können. Live-Stream und TV-Programm.\nhttps://streamradar.socce
 r/de/match/5614600/homs-al-fidaa-vs-damascus-al-ahli/
URL;VALUE=URI:https://streamradar.soccer/de/match/5614600/homs-al-fidaa-vs-
 damascus-al-ahli/
STATUS:CONFIRMED
END:VEVENT
END:VCALENDAR
