BEGIN:VCALENDAR
VERSION:2.0
PRODID:-//StreamRadar//Match Calendar//EN
CALSCALE:GREGORIAN
METHOD:PUBLISH
X-WR-CALNAME:Stade d'Abidjan vs Agboville
X-WR-TIMEZONE:America/New_York
BEGIN:VEVENT
UID:match-5614577@streamradar.soccer
SUMMARY:Stade d'Abidjan vs Agboville
DTSTAMP:20260421T114503Z
DTSTART;TZID=America/New_York:20260418T120000
DTEND;TZID=America/New_York:20260418T140000
LOCATION:Stade Robert Champroux
DESCRIPTION:Wo Sie Stade D'Abidjan vs Agboville in Côte d'Ivoire Premier D
 ivision sehen können. Live-Stream und TV-Programm.\nhttps://streamradar.so
 ccer/de/match/5614577/stade-dabidjan-vs-agboville/
URL;VALUE=URI:https://streamradar.soccer/de/match/5614577/stade-dabidjan-vs
 -agboville/
STATUS:CONFIRMED
END:VEVENT
END:VCALENDAR
