BEGIN:VCALENDAR
VERSION:2.0
PRODID:-//StreamRadar//Match Calendar//EN
CALSCALE:GREGORIAN
METHOD:PUBLISH
X-WR-CALNAME:West Adelaide vs Croydon Kings
X-WR-TIMEZONE:America/New_York
BEGIN:VEVENT
UID:match-5614510@streamradar.soccer
SUMMARY:West Adelaide vs Croydon Kings
DTSTAMP:20260421T170527Z
DTSTART;TZID=America/New_York:20260620T013000
DTEND;TZID=America/New_York:20260620T033000
LOCATION:Kilburn Sportsplex
DESCRIPTION:Wo Sie West Adelaide vs Croydon Kings in Australien - NPL SA se
 hen können. Live-Stream und TV-Programm.\nhttps://streamradar.soccer/de/ma
 tch/5614510/west-adelaide-vs-croydon-kings/
URL;VALUE=URI:https://streamradar.soccer/de/match/5614510/west-adelaide-vs-
 croydon-kings/
STATUS:CONFIRMED
END:VEVENT
END:VCALENDAR
