BEGIN:VCALENDAR
VERSION:2.0
PRODID:-//StreamRadar//Match Calendar//EN
CALSCALE:GREGORIAN
METHOD:PUBLISH
X-WR-CALNAME:NykÃ¸bing vs FA 2000
X-WR-TIMEZONE:America/New_York
BEGIN:VEVENT
UID:match-5613183@streamradar.soccer
SUMMARY:NykÃ¸bing vs FA 2000
DTSTAMP:20260421T054630Z
DTSTART;TZID=America/New_York:20260426T080000
DTEND;TZID=America/New_York:20260426T100000
LOCATION:Lollands Bank Park
DESCRIPTION:Wo Sie NykÃ¸bing vs FA 2000 in DÃ¤nemark - 3. Division sehen kÃ
 ¶nnen. Live-Stream und TV-Programm.\nhttps://streamradar.soccer/de/match/56
 13183/nykobing-vs-fa-2000/
URL;VALUE=URI:https://streamradar.soccer/de/match/5613183/nykobing-vs-fa-20
 00/
STATUS:CONFIRMED
END:VEVENT
END:VCALENDAR
