BEGIN:VCALENDAR
VERSION:2.0
PRODID:-//StreamRadar//Match Calendar//EN
CALSCALE:GREGORIAN
METHOD:PUBLISH
X-WR-CALNAME:Calor vs Deportiva Venados
X-WR-TIMEZONE:America/New_York
BEGIN:VEVENT
UID:match-5613095@streamradar.soccer
SUMMARY:Calor vs Deportiva Venados
DTSTAMP:20260421T165400Z
DTSTART;TZID=America/New_York:20260415T160000
DTEND;TZID=America/New_York:20260415T180000
LOCATION:Estadio Antonio R. Márquez (San Juan de los Lagos)
DESCRIPTION:Wo Sie Calor vs Deportiva Venados in Mexiko - Liga MX sehen kö
 nnen. Live-Stream und TV-Programm.\nhttps://streamradar.soccer/de/match/561
 3095/calor-vs-deportiva-venados/
URL;VALUE=URI:https://streamradar.soccer/de/match/5613095/calor-vs-deportiv
 a-venados/
STATUS:CONFIRMED
END:VEVENT
END:VCALENDAR
