BEGIN:VCALENDAR
VERSION:2.0
PRODID:-//StreamRadar//Match Calendar//EN
CALSCALE:GREGORIAN
METHOD:PUBLISH
X-WR-CALNAME:FV Engers 07 vs Pirmasens
X-WR-TIMEZONE:America/New_York
BEGIN:VEVENT
UID:match-5613088@streamradar.soccer
SUMMARY:FV Engers 07 vs Pirmasens
DTSTAMP:20260421T054902Z
DTSTART;TZID=America/New_York:20260513T140000
DTEND;TZID=America/New_York:20260513T160000
DESCRIPTION:Wo Sie FV Engers 07 vs Pirmasens in Deutschland - Oberliga sehe
 n können. Live-Stream und TV-Programm.\nhttps://streamradar.soccer/de/matc
 h/5613088/fv-engers-07-vs-pirmasens/
URL;VALUE=URI:https://streamradar.soccer/de/match/5613088/fv-engers-07-vs-p
 irmasens/
STATUS:CONFIRMED
END:VEVENT
END:VCALENDAR
