BEGIN:VCALENDAR
VERSION:2.0
PRODID:-//StreamRadar//Match Calendar//EN
CALSCALE:GREGORIAN
METHOD:PUBLISH
X-WR-CALNAME:Volos NFC vs Aris
X-WR-TIMEZONE:America/New_York
BEGIN:VEVENT
UID:match-5613005@streamradar.soccer
SUMMARY:Volos NFC vs Aris
DTSTAMP:20260421T101938Z
DTSTART;TZID=America/New_York:20260513T100000
DTEND;TZID=America/New_York:20260513T120000
LOCATION:Panthessaliko Stadium
DESCRIPTION:Wo Sie Volos NFC vs Aris in Griechenland - Super League Grieche
 nland sehen können. Live-Stream und TV-Programm.\nhttps://streamradar.socc
 er/de/match/5613005/volos-nfc-vs-aris/
URL;VALUE=URI:https://streamradar.soccer/de/match/5613005/volos-nfc-vs-aris
 /
STATUS:CONFIRMED
END:VEVENT
END:VCALENDAR
