BEGIN:VCALENDAR
VERSION:2.0
PRODID:-//StreamRadar//Match Calendar//EN
CALSCALE:GREGORIAN
METHOD:PUBLISH
X-WR-CALNAME:Brabrand vs Ishøj
X-WR-TIMEZONE:America/New_York
BEGIN:VEVENT
UID:match-5612711@streamradar.soccer
SUMMARY:Brabrand vs Ishøj
DTSTAMP:20260421T104031Z
DTSTART;TZID=America/New_York:20260418T080000
DTEND;TZID=America/New_York:20260418T100000
LOCATION:Brabrand IF's Idrætsanlæg (Brabrand)
DESCRIPTION:Wo Sie Brabrand vs Ishøj in Dänemark - 1. Division sehen kön
 nen. Live-Stream und TV-Programm.\nhttps://streamradar.soccer/de/match/5612
 711/brabrand-vs-ishoj/
URL;VALUE=URI:https://streamradar.soccer/de/match/5612711/brabrand-vs-ishoj
 /
STATUS:CONFIRMED
END:VEVENT
END:VCALENDAR
