BEGIN:VCALENDAR
VERSION:2.0
PRODID:-//StreamRadar//Match Calendar//EN
CALSCALE:GREGORIAN
METHOD:PUBLISH
X-WR-CALNAME:Ural vs Shinnik
X-WR-TIMEZONE:America/New_York
BEGIN:VEVENT
UID:match-5612228@streamradar.soccer
SUMMARY:Ural vs Shinnik
DTSTAMP:20260421T114436Z
DTSTART;TZID=America/New_York:20260504T100000
DTEND;TZID=America/New_York:20260504T120000
LOCATION:Yekaterinburg Arena
DESCRIPTION:Wo Sie Ural vs Shinnik in Russland - FNL sehen können. Live-St
 ream und TV-Programm.\nhttps://streamradar.soccer/de/match/5612228/ural-vs-
 shinnik/
URL;VALUE=URI:https://streamradar.soccer/de/match/5612228/ural-vs-shinnik/
STATUS:CONFIRMED
END:VEVENT
END:VCALENDAR
