BEGIN:VCALENDAR
VERSION:2.0
PRODID:-//StreamRadar//Match Calendar//EN
CALSCALE:GREGORIAN
METHOD:PUBLISH
X-WR-CALNAME:Napredak vs Radnički Niš
X-WR-TIMEZONE:America/New_York
BEGIN:VEVENT
UID:match-5612206@streamradar.soccer
SUMMARY:Napredak vs Radnički Niš
DTSTAMP:20260421T072829Z
DTSTART;TZID=America/New_York:20260503T130000
DTEND;TZID=America/New_York:20260503T150000
DESCRIPTION:Wo Sie Napredak vs Radnički Niš in Serbien - Superliga sehen 
 können. Live-Stream und TV-Programm.\nhttps://streamradar.soccer/de/match/
 5612206/napredak-vs-radnicki-nis/
URL;VALUE=URI:https://streamradar.soccer/de/match/5612206/napredak-vs-radni
 cki-nis/
STATUS:CONFIRMED
END:VEVENT
END:VCALENDAR
