BEGIN:VCALENDAR
VERSION:2.0
PRODID:-//StreamRadar//Match Calendar//EN
CALSCALE:GREGORIAN
METHOD:PUBLISH
X-WR-CALNAME:Spartak Subotica vs Bačka Topola
X-WR-TIMEZONE:America/New_York
BEGIN:VEVENT
UID:match-5612199@streamradar.soccer
SUMMARY:Spartak Subotica vs Bačka Topola
DTSTAMP:20260420T120711Z
DTSTART;TZID=America/New_York:20260423T140000
DTEND;TZID=America/New_York:20260423T160000
LOCATION:Gradski stadion
DESCRIPTION:Wo Sie Spartak Subotica vs Bačka Topola in Serbien - Superliga
  sehen können. Live-Stream und TV-Programm.\nhttps://streamradar.soccer/de
 /match/5612199/spartak-subotica-vs-backa-topola/
URL;VALUE=URI:https://streamradar.soccer/de/match/5612199/spartak-subotica-
 vs-backa-topola/
STATUS:CONFIRMED
END:VEVENT
END:VCALENDAR
