BEGIN:VCALENDAR
VERSION:2.0
PRODID:-//StreamRadar//Match Calendar//EN
CALSCALE:GREGORIAN
METHOD:PUBLISH
X-WR-CALNAME:Kosmos Dolgoprudny vs Cherepovets
X-WR-TIMEZONE:America/New_York
BEGIN:VEVENT
UID:match-5611578@streamradar.soccer
SUMMARY:Kosmos Dolgoprudny vs Cherepovets
DTSTAMP:20260421T092430Z
DTSTART;TZID=America/New_York:20260510T090000
DTEND;TZID=America/New_York:20260510T110000
DESCRIPTION:Wo Sie Kosmos Dolgoprudny vs Cherepovets in Russland - FNL 2 se
 hen können. Live-Stream und TV-Programm.\nhttps://streamradar.soccer/de/ma
 tch/5611578/kosmos-dolgoprudny-vs-cherepovets/
URL;VALUE=URI:https://streamradar.soccer/de/match/5611578/kosmos-dolgoprudn
 y-vs-cherepovets/
STATUS:CONFIRMED
END:VEVENT
END:VCALENDAR
