BEGIN:VCALENDAR
VERSION:2.0
PRODID:-//StreamRadar//Match Calendar//EN
CALSCALE:GREGORIAN
METHOD:PUBLISH
X-WR-CALNAME:Angusht vs Nart Cherkessk
X-WR-TIMEZONE:America/New_York
BEGIN:VEVENT
UID:match-5611566@streamradar.soccer
SUMMARY:Angusht vs Nart Cherkessk
DTSTAMP:20260421T093037Z
DTSTART;TZID=America/New_York:20260510T090000
DTEND;TZID=America/New_York:20260510T110000
DESCRIPTION:Wo Sie Angusht vs Nart Cherkessk in Russland - FNL 2 sehen kön
 nen. Live-Stream und TV-Programm.\nhttps://streamradar.soccer/de/match/5611
 566/angusht-vs-nart-cherkessk/
URL;VALUE=URI:https://streamradar.soccer/de/match/5611566/angusht-vs-nart-c
 herkessk/
STATUS:CONFIRMED
END:VEVENT
END:VCALENDAR
