BEGIN:VCALENDAR
VERSION:2.0
PRODID:-//StreamRadar//Match Calendar//EN
CALSCALE:GREGORIAN
METHOD:PUBLISH
X-WR-CALNAME:Pamba vs Dodoma Jiji
X-WR-TIMEZONE:America/New_York
BEGIN:VEVENT
UID:match-5611487@streamradar.soccer
SUMMARY:Pamba vs Dodoma Jiji
DTSTAMP:20260421T072705Z
DTSTART;TZID=America/New_York:20260510T090000
DTEND;TZID=America/New_York:20260510T110000
LOCATION:CCM Kirumba Stadium
DESCRIPTION:Wo Sie Pamba vs Dodoma Jiji in Tanzania Premier League sehen kÃ
 ¶nnen. Live-Stream und TV-Programm.\nhttps://streamradar.soccer/de/match/56
 11487/pamba-vs-dodoma-jiji/
URL;VALUE=URI:https://streamradar.soccer/de/match/5611487/pamba-vs-dodoma-j
 iji/
STATUS:CONFIRMED
END:VEVENT
END:VCALENDAR
