BEGIN:VCALENDAR
VERSION:2.0
PRODID:-//StreamRadar//Match Calendar//EN
CALSCALE:GREGORIAN
METHOD:PUBLISH
X-WR-CALNAME:Bidco United vs Kariobangi Sharks
X-WR-TIMEZONE:America/New_York
BEGIN:VEVENT
UID:match-5611436@streamradar.soccer
SUMMARY:Bidco United vs Kariobangi Sharks
DTSTAMP:20260421T030122Z
DTSTART;TZID=America/New_York:20260501T070000
DTEND;TZID=America/New_York:20260501T090000
DESCRIPTION:Wo Sie Bidco United vs Kariobangi Sharks in Kenyan Premier Leag
 ue sehen können. Live-Stream und TV-Programm.\nhttps://streamradar.soccer/
 de/match/5611436/bidco-united-vs-kariobangi-sharks/
URL;VALUE=URI:https://streamradar.soccer/de/match/5611436/bidco-united-vs-k
 ariobangi-sharks/
STATUS:CONFIRMED
END:VEVENT
END:VCALENDAR
