BEGIN:VCALENDAR
VERSION:2.0
PRODID:-//StreamRadar//Match Calendar//EN
CALSCALE:GREGORIAN
METHOD:PUBLISH
X-WR-CALNAME:AEK Athens vs Panathinaikos
X-WR-TIMEZONE:America/New_York
BEGIN:VEVENT
UID:match-5611405@streamradar.soccer
SUMMARY:AEK Athens vs Panathinaikos
DTSTAMP:20260421T093631Z
DTSTART;TZID=America/New_York:20260510T123000
DTEND;TZID=America/New_York:20260510T143000
LOCATION:Allwyn Arena
DESCRIPTION:Wo Sie AEK Athens vs Panathinaikos in Griechenland - Super Leag
 ue Griechenland sehen können. Live-Stream und TV-Programm.\nhttps://stream
 radar.soccer/de/match/5611405/aek-athens-vs-panathinaikos/
URL;VALUE=URI:https://streamradar.soccer/de/match/5611405/aek-athens-vs-pan
 athinaikos/
STATUS:CONFIRMED
END:VEVENT
END:VCALENDAR
