BEGIN:VCALENDAR
VERSION:2.0
PRODID:-//StreamRadar//Match Calendar//EN
CALSCALE:GREGORIAN
METHOD:PUBLISH
X-WR-CALNAME:Tuggeranong United vs Canberra Olympic
X-WR-TIMEZONE:America/New_York
BEGIN:VEVENT
UID:match-5610767@streamradar.soccer
SUMMARY:Tuggeranong United vs Canberra Olympic
DTSTAMP:20260421T104521Z
DTSTART;TZID=America/New_York:20260509T010000
DTEND;TZID=America/New_York:20260509T030000
LOCATION:Kambah Stadium
DESCRIPTION:Wo Sie Tuggeranong United vs Canberra Olympic in Australien - N
 PL ACT sehen können. Live-Stream und TV-Programm.\nhttps://streamradar.soc
 cer/de/match/5610767/tuggeranong-united-vs-canberra-olympic/
URL;VALUE=URI:https://streamradar.soccer/de/match/5610767/tuggeranong-unite
 d-vs-canberra-olympic/
STATUS:CONFIRMED
END:VEVENT
END:VCALENDAR
