BEGIN:VCALENDAR
VERSION:2.0
PRODID:-//StreamRadar//Match Calendar//EN
CALSCALE:GREGORIAN
METHOD:PUBLISH
X-WR-CALNAME:Kabel Novi Sad vs Borac Čačak
X-WR-TIMEZONE:America/New_York
BEGIN:VEVENT
UID:match-5609513@streamradar.soccer
SUMMARY:Kabel Novi Sad vs Borac Čačak
DTSTAMP:20260421T092354Z
DTSTART;TZID=America/New_York:20260422T100000
DTEND;TZID=America/New_York:20260422T120000
LOCATION:Stadion Slana Bara (Novi Sad)
DESCRIPTION:Wo Sie Kabel Novi Sad vs Borac Čačak in Serbien - Prva Liga s
 ehen können. Live-Stream und TV-Programm.\nhttps://streamradar.soccer/de/m
 atch/5609513/kabel-novi-sad-vs-borac-cacak/
URL;VALUE=URI:https://streamradar.soccer/de/match/5609513/kabel-novi-sad-vs
 -borac-cacak/
STATUS:CONFIRMED
END:VEVENT
END:VCALENDAR
