BEGIN:VCALENDAR
VERSION:2.0
PRODID:-//StreamRadar//Match Calendar//EN
CALSCALE:GREGORIAN
METHOD:PUBLISH
X-WR-CALNAME:Gheorgheni vs CSM Adjud
X-WR-TIMEZONE:America/New_York
BEGIN:VEVENT
UID:match-5608414@streamradar.soccer
SUMMARY:Gheorgheni vs CSM Adjud
DTSTAMP:20260421T062334Z
DTSTART;TZID=America/New_York:20260502T110000
DTEND;TZID=America/New_York:20260502T130000
DESCRIPTION:Wo Sie Gheorgheni vs CSM Adjud in RumÃ¤nien - Liga III sehen kÃ
 ¶nnen. Live-Stream und TV-Programm.\nhttps://streamradar.soccer/de/match/56
 08414/gheorgheni-vs-csm-adjud/
URL;VALUE=URI:https://streamradar.soccer/de/match/5608414/gheorgheni-vs-csm
 -adjud/
STATUS:CONFIRMED
END:VEVENT
END:VCALENDAR
