BEGIN:VCALENDAR
VERSION:2.0
PRODID:-//StreamRadar//Match Calendar//EN
CALSCALE:GREGORIAN
METHOD:PUBLISH
X-WR-CALNAME:Galvez vs Guaporé
X-WR-TIMEZONE:America/New_York
BEGIN:VEVENT
UID:match-5607453@streamradar.soccer
SUMMARY:Galvez vs Guaporé
DTSTAMP:20260421T092054Z
DTSTART;TZID=America/New_York:20260503T170000
DTEND;TZID=America/New_York:20260503T190000
DESCRIPTION:Wo Sie Galvez vs Guaporé in Brasilien - Serie D sehen können.
  Live-Stream und TV-Programm.\nhttps://streamradar.soccer/de/match/5607453/
 galvez-vs-guapore/
URL;VALUE=URI:https://streamradar.soccer/de/match/5607453/galvez-vs-guapore
 /
STATUS:CONFIRMED
END:VEVENT
END:VCALENDAR
